BEGIN:VCALENDAR
VERSION:2.0
PRODID:-//Do the Right Thing - ECPv6.15.20//NONSGML v1.0//EN
CALSCALE:GREGORIAN
METHOD:PUBLISH
X-ORIGINAL-URL:https://dotherightthinginc.org
X-WR-CALDESC:Events for Do the Right Thing
REFRESH-INTERVAL;VALUE=DURATION:PT1H
X-Robots-Tag:noindex
X-PUBLISHED-TTL:PT1H
BEGIN:VTIMEZONE
TZID:America/New_York
BEGIN:DAYLIGHT
TZOFFSETFROM:-0500
TZOFFSETTO:-0400
TZNAME:EDT
DTSTART:20230312T070000
END:DAYLIGHT
BEGIN:STANDARD
TZOFFSETFROM:-0400
TZOFFSETTO:-0500
TZNAME:EST
DTSTART:20231105T060000
END:STANDARD
BEGIN:DAYLIGHT
TZOFFSETFROM:-0500
TZOFFSETTO:-0400
TZNAME:EDT
DTSTART:20240310T070000
END:DAYLIGHT
BEGIN:STANDARD
TZOFFSETFROM:-0400
TZOFFSETTO:-0500
TZNAME:EST
DTSTART:20241103T060000
END:STANDARD
BEGIN:DAYLIGHT
TZOFFSETFROM:-0500
TZOFFSETTO:-0400
TZNAME:EDT
DTSTART:20250309T070000
END:DAYLIGHT
BEGIN:STANDARD
TZOFFSETFROM:-0400
TZOFFSETTO:-0500
TZNAME:EST
DTSTART:20251102T060000
END:STANDARD
END:VTIMEZONE
BEGIN:VEVENT
DTSTART;TZID=America/New_York:20241218T100000
DTEND;TZID=America/New_York:20241218T110000
DTSTAMP:20260422T083034
CREATED:20240726T164733Z
LAST-MODIFIED:20240726T164733Z
UID:487461-1734516000-1734519600@dotherightthinginc.org
SUMMARY:DTRT Awards Ceremony
DESCRIPTION:
URL:https://dotherightthinginc.org/event/dtrt-awards-ceremony-23/
ATTACH;FMTTYPE=image/png:https://dotherightthinginc.org/wp-content/uploads/2024/07/Screenshot-2024-07-26-124117-e1723656219939.png
END:VEVENT
BEGIN:VEVENT
DTSTART;VALUE=DATE:20241220
DTEND;VALUE=DATE:20241221
DTSTAMP:20260422T083034
CREATED:20240726T152147Z
LAST-MODIFIED:20240726T152147Z
UID:487446-1734652800-1734739199@dotherightthinginc.org
SUMMARY:Teacher Planning Day
DESCRIPTION:
URL:https://dotherightthinginc.org/event/teacher-planning-day-21/
END:VEVENT
BEGIN:VEVENT
DTSTART;VALUE=DATE:20241220
DTEND;VALUE=DATE:20241221
DTSTAMP:20260422T083034
CREATED:20240726T172722Z
LAST-MODIFIED:20240726T172722Z
UID:487491-1734652800-1734739199@dotherightthinginc.org
SUMMARY:DTRT Nominations Due
DESCRIPTION:
URL:https://dotherightthinginc.org/event/dtrt-nominations-due-25/
ATTACH;FMTTYPE=image/png:https://dotherightthinginc.org/wp-content/uploads/2024/07/Screenshot-2024-07-26-111632-e1722014035394.png
END:VEVENT
END:VCALENDAR