BEGIN:VCALENDAR
VERSION:2.0
PRODID:-//Do the Right Thing - ECPv6.15.20//NONSGML v1.0//EN
CALSCALE:GREGORIAN
METHOD:PUBLISH
X-WR-CALNAME:Do the Right Thing
X-ORIGINAL-URL:https://dotherightthinginc.org
X-WR-CALDESC:Events for Do the Right Thing
REFRESH-INTERVAL;VALUE=DURATION:PT1H
X-Robots-Tag:noindex
X-PUBLISHED-TTL:PT1H
BEGIN:VTIMEZONE
TZID:America/New_York
BEGIN:DAYLIGHT
TZOFFSETFROM:-0500
TZOFFSETTO:-0400
TZNAME:EDT
DTSTART:20240310T070000
END:DAYLIGHT
BEGIN:STANDARD
TZOFFSETFROM:-0400
TZOFFSETTO:-0500
TZNAME:EST
DTSTART:20241103T060000
END:STANDARD
BEGIN:DAYLIGHT
TZOFFSETFROM:-0500
TZOFFSETTO:-0400
TZNAME:EDT
DTSTART:20250309T070000
END:DAYLIGHT
BEGIN:STANDARD
TZOFFSETFROM:-0400
TZOFFSETTO:-0500
TZNAME:EST
DTSTART:20251102T060000
END:STANDARD
BEGIN:DAYLIGHT
TZOFFSETFROM:-0500
TZOFFSETTO:-0400
TZNAME:EDT
DTSTART:20260308T070000
END:DAYLIGHT
BEGIN:STANDARD
TZOFFSETFROM:-0400
TZOFFSETTO:-0500
TZNAME:EST
DTSTART:20261101T060000
END:STANDARD
END:VTIMEZONE
BEGIN:VEVENT
DTSTART;VALUE=DATE:20250220
DTEND;VALUE=DATE:20250221
DTSTAMP:20260422T050609
CREATED:20240726T172915Z
LAST-MODIFIED:20240726T172915Z
UID:487495-1740009600-1740095999@dotherightthinginc.org
SUMMARY:DTRT Nominations Due
DESCRIPTION:
URL:https://dotherightthinginc.org/event/dtrt-nominations-due-27/
ATTACH;FMTTYPE=image/png:https://dotherightthinginc.org/wp-content/uploads/2024/07/Screenshot-2024-07-26-111632-e1722014035394.png
END:VEVENT
BEGIN:VEVENT
DTSTART;TZID=America/New_York:20250220T100000
DTEND;TZID=America/New_York:20250220T110000
DTSTAMP:20260422T050609
CREATED:20240726T164952Z
LAST-MODIFIED:20240726T164952Z
UID:487465-1740045600-1740049200@dotherightthinginc.org
SUMMARY:DTRT Awards Ceremony
DESCRIPTION:
URL:https://dotherightthinginc.org/event/dtrt-awards-ceremony-25/
ATTACH;FMTTYPE=image/png:https://dotherightthinginc.org/wp-content/uploads/2024/07/Screenshot-2024-07-26-124117-e1723656219939.png
END:VEVENT
BEGIN:VEVENT
DTSTART;VALUE=DATE:20250228
DTEND;VALUE=DATE:20250301
DTSTAMP:20260422T050609
CREATED:20240726T170408Z
LAST-MODIFIED:20240726T170408Z
UID:487477-1740700800-1740787199@dotherightthinginc.org
SUMMARY:DTRT/Angel Calzadilla Scholarship Applications Due
DESCRIPTION:
URL:https://dotherightthinginc.org/event/dtrt-angel-calzadilla-scholarship-applications-due-4/
ATTACH;FMTTYPE=image/png:https://dotherightthinginc.org/wp-content/uploads/2024/06/Screenshot-2024-06-26-092908.png
END:VEVENT
END:VCALENDAR